BEGIN:VCALENDAR
VERSION:2.0
PRODID:-//ChamberMaster//Event Calendar 2.0//EN
METHOD:PUBLISH
X-PUBLISHED-TTL:P3D
REFRESH-INTERVAL:P3D
CALSCALE:GREGORIAN
BEGIN:VEVENT
DTSTART:20260401T220000Z
DTEND:20260401T230000Z
X-MICROSOFT-CDO-ALLDAYEVENT:FALSE
SUMMARY:Butler County Board of DD Town Hall Meeting
DESCRIPTION:Join us for a town hall meeting where we discuss our fiscal emergency\, what we've done so far to reduce expenses\, and why we've placed a levy on the May ballot. This is your chance to learn about what led us to this point and ask questions.
X-ALT-DESC;FMTTYPE=text/html:Join us for a town hall meeting where we discuss our fiscal emergency\, what we&rsquo\;ve done so far to reduce expenses\, and why we&rsquo\;ve placed a levy on the May ballot. This is your chance to learn about what led us to this point and ask questions.
LOCATION:MidPointe Library West Chester\, 9363 Centre Pointe\, West Chester\, Ohio\, 45069
UID:e.2135.3955
SEQUENCE:3
DTSTAMP:20260425T161157Z
URL:http://thechamberofcommerce.sampleorg.com/events/details/butler-county-board-of-dd-town-hall-meeting-04-01-2026-3955
END:VEVENT

END:VCALENDAR
